BEGIN:VCALENDAR
VERSION:2.0
PRODID:-//eventon.com NONSGML v1.0//EN
CALSCALE:GREGORIAN
METHOD:PUBLISH
BEGIN:VEVENT
UID:69ea2d338e03b
DTSTAMP:20260423T143115Z
DTSTART:20210520T220000Z
DTEND:20220103T080000Z
LOCATION:Fondation Azzedine Alaïa 18 rue de la Verrerie 75004 Paris
SUMMARY:Azzedine Alaïa\,  Peter Lindbergh
DESCRIPTION:Comme des rencontres artistiques qui ont soudé Richard Avedon 
 et Christian Dior ou encore Yves Saint Laurent et Helmut Newton\,  Peter Li
 ndbergh et Azzedine Alaïa ont trouvé un territoire commun où chacune de 
 leur expression se veut le reflet de l’autre. Sans mot dire\,  le photogr
 aphe et le couturier se[..]\nhttps://www.9lives-magazine.com/events/azzedin
 e-alaia-peter-lindbergh/
URL:https://www.9lives-magazine.com/events/azzedine-alaia-peter-lindbergh/
END:VEVENT
END:VCALENDAR