BEGIN:VCALENDAR
VERSION:2.0
PRODID:-//eventon.com NONSGML v1.0//EN
CALSCALE:GREGORIAN
METHOD:PUBLISH
BEGIN:VEVENT
UID:69ea41036095e
DTSTAMP:20260423T155547Z
DTSTART:20210519T213000Z
DTEND:20210927T060000Z
LOCATION:Musée du Quai Branly 37 Quai Branly\,  75007 Paris
SUMMARY:The African Shed Laboratory
DESCRIPTION:Dans le cadre de la Saison Africa2020\,  le musée du quai Bran
 ly – Jacques Chirac invite l’artiste Kemi Bassene à réaliser une oeuv
 re à partir des archives photographiques et audiovisuelles qui y sont cons
 ervées. Intitulée The African Shed Laboratory\,  l’installation de Kemi
  Bassene tente de démontrer que les archives muséales[..]\nhttps://www.9l
 ives-magazine.com/events/the-african-shed-laboratory-kemi-bassene/
URL:https://www.9lives-magazine.com/events/the-african-shed-laboratory-kemi-bassene/
END:VEVENT
END:VCALENDAR