BEGIN:VCALENDAR
VERSION:2.0
PRODID:-//eventon.com NONSGML v1.0//EN
CALSCALE:GREGORIAN
METHOD:PUBLISH
BEGIN:VEVENT
UID:69ec1ef226f0c
DTSTAMP:20260425T015458Z
DTSTART:20210501T180000Z
DTEND:20210521T105900Z
LOCATION:
SUMMARY:Grand Prix Les Femmes s'exposent 2021
DESCRIPTION:En partenariat avec FUJI\,  ce prix récompensera un sujet phot
 ographique en lien avec le dérèglement climatique dans l’acceptation su
 ivante : Les répercussions directes et indirectes du dérèglement climati
 que se font déjà sentir. Infimes ou catastrophiques\,  elles touchent tou
 tes les régions du monde. Certaines zones sont confrontées à des vagues 
 de[..]\nhttps://www.9lives-magazine.com/events/grand-prix-les-femmes-sexpos
 ent-2021/
URL:https://www.9lives-magazine.com/events/grand-prix-les-femmes-sexposent-2021/
END:VEVENT
END:VCALENDAR