BEGIN:VCALENDAR
VERSION:2.0
PRODID:-//eventon.com NONSGML v1.0//EN
CALSCALE:GREGORIAN
METHOD:PUBLISH
BEGIN:VEVENT
UID:69ec1f440b7f0
DTSTAMP:20260425T015620Z
DTSTART:20210501T180000Z
DTEND:20210521T105900Z
LOCATION:
SUMMARY:Prix “OBS” pour Les femmes s’exposent 2021
DESCRIPTION:Pour la quatrième année consécutive\,  L’Obs renouvelle so
 n intérêt pour le festival «Les femmes s’exposent» en décernant le P
 rix Obs à une photographe. Ce prix a pour but de soutenir et faire connaî
 tre le travail d’une femme photographe\,  français ou internationale\,  
 en lui offrant la possibilité de le publier dans[..]\nhttps://www.9lives-m
 agazine.com/events/prix-obs-pour-les-femmes-sexposent-2021/
URL:https://www.9lives-magazine.com/events/prix-obs-pour-les-femmes-sexposent-2021/
END:VEVENT
END:VCALENDAR