BEGIN:VCALENDAR
VERSION:2.0
PRODID:-//eventon.com NONSGML v1.0//EN
CALSCALE:GREGORIAN
METHOD:PUBLISH
BEGIN:VEVENT
UID:69ec1f07180a8
DTSTAMP:20260425T015519Z
DTSTART:20200401T110000Z
DTEND:20200510T110000Z
LOCATION:
SUMMARY:Prix SAIF pour Les femmes s’exposent 2021
DESCRIPTION:La SAIF s’associe au festival dédié aux femmes photographes
 \,  Les femmes s’exposent\,  qui se tiendra à Houlgate du 1er juin au 8 
 août 2021\,  et lance à cette occasion la 4e édition de son Prix photogr
 aphique. Ce prix récompense une femme photographe pour son travail artisti
 que\,  il met en lumière[..]\nhttps://www.9lives-magazine.com/events/prix-
 saif-pour-les-femmes-sexposent-2021/
URL:https://www.9lives-magazine.com/events/prix-saif-pour-les-femmes-sexposent-2021/
END:VEVENT
END:VCALENDAR