BEGIN:VCALENDAR
VERSION:2.0
PRODID:-//eventon.com NONSGML v1.0//EN
CALSCALE:GREGORIAN
METHOD:PUBLISH
BEGIN:VEVENT
UID:69ea2db87aa1e
DTSTAMP:20260423T143328Z
DTSTART:20210520T010000Z
DTEND:20210920T053000Z
LOCATION:STIMULTANIA PÃ´le de photographie 33 rue Kageneck\,  67000 Strasbourg
SUMMARY:LisiÃ¨res
DESCRIPTION:Chercheur attentif et soucieux\,  Vincent Chevillon suit les tr
 aces des animaux et consigne ses pensÃ©es dans des prises de vue tirÃ©es au
  cordeau. Chaque dÃ©tail rÃ©vÃ©lÃ© par lâ€™image photographique pourrait lu
 i apporter une rÃ©ponse et permettre lâ€™avancÃ©e dâ€™une enquÃªte infinieâ
 €¦ Ses expositions sont autant de pistes explorÃ©es mÃ©ticuleusement pendan
 t des[..]\nhttps://www.9lives-magazine.com/events/lisieres-vincent-chevillo
 n/
URL:https://www.9lives-magazine.com/events/lisieres-vincent-chevillon/
END:VEVENT
END:VCALENDAR