BEGIN:VCALENDAR
VERSION:2.0
PRODID:-//eventon.com NONSGML v1.0//EN
CALSCALE:GREGORIAN
METHOD:PUBLISH
BEGIN:VEVENT
UID:69ea414d73429
DTSTAMP:20260423T155701Z
DTSTART:20210528T220000Z
DTEND:20210906T050000Z
LOCATION:La Piscine - Musée d&#039;art et d&#039;industrie André Diligent de Roubaix 23 Rue de l'Espérance\,  59100 Roubaix
SUMMARY:Le Bleu du Ciel
DESCRIPTION:« Il faisait un admirable temps d&rsquo;été\,  pas trop cha
 ud\,  les hirondelles traçaient sur le bleu du ciel de grandes lignes cour
 bes qu&rsquo;on croyait voir encore quand elles étaient passées. » Maup
 assant\,  Bel-Ami (1885) Édouard Taufenbach\,  photographe plasticien\,  e
 t Régis Campo\,  compositeur\,  sont les lauréats de la 4e édition du Pr
 ix Swiss[..]\nhttps://www.9lives-magazine.com/events/le-bleu-du-ciel/
URL:https://www.9lives-magazine.com/events/le-bleu-du-ciel/
END:VEVENT
END:VCALENDAR