BEGIN:VCALENDAR
VERSION:2.0
PRODID:-//eventon.com NONSGML v1.0//EN
CALSCALE:GREGORIAN
METHOD:PUBLISH
BEGIN:VEVENT
UID:69ea2d6b7552a
DTSTAMP:20260423T143211Z
DTSTART:20210519T210000Z
DTEND:20210705T050000Z
LOCATION:L’Institut pour la photographie 11\,  rue de Thionville 59 000 Lille
SUMMARY:Charles de Gaulle\,  sous l'oeil des photographes
DESCRIPTION:En attendant sa troisième programmation d’expositions prévu
 e à l’automne 2021\,  l’Institut pour la photographie ouvre ses portes
  au printemps avec une exposition consacrée à Charles de Gaulle\,  initia
 lement prévue à l’automne 2020 hors-les-murs. La vie du général de Ga
 ulle a été abondamment illustrée par la photographie. L’exposition pro
 pose une nouvelle[..]\nhttps://www.9lives-magazine.com/events/charles-de-ga
 ulle-sous-loeil-des-photographes/
URL:https://www.9lives-magazine.com/events/charles-de-gaulle-sous-loeil-des-photographes/
END:VEVENT
END:VCALENDAR