BEGIN:VCALENDAR
VERSION:2.0
PRODID:-//eventon.com NONSGML v1.0//EN
CALSCALE:GREGORIAN
METHOD:PUBLISH
BEGIN:VEVENT
UID:69ea2d583a49c
DTSTAMP:20260423T143152Z
DTSTART:20210531T220000Z
DTEND:20210606T200600Z
LOCATION:Espace Beaurepaire 28 rue Beaurepaire 75010 Paris
SUMMARY:Flash B(lack) du Congo
DESCRIPTION:Lâ€™exposition qui se tiendra Ã  la galerie Beaurepaire Ã  Pari
 s est une premiÃ¨re pour Maurice Bidilou\,  dit Â« Pellosh Â» qui ouvrit so
 n studio Ã  Pointe-Noire fin 1973 et dont les nÃ©gatifs nâ€™avaient jusquâ€
 ™Ã  prÃ©sent\,  jamais quittÃ© le Congo. De 1973 jusquâ€™au milieu des annÃ
 ©es 90\,  Pellosh voit dÃ©filer dans[..]\nhttps://www.9lives-magazine.com/e
 vents/flash-black-du-congo-maurice-pellosh/
URL:https://www.9lives-magazine.com/events/flash-black-du-congo-maurice-pellosh/
END:VEVENT
END:VCALENDAR