BEGIN:VCALENDAR
VERSION:2.0
PRODID:-//eventon.com NONSGML v1.0//EN
CALSCALE:GREGORIAN
METHOD:PUBLISH
BEGIN:VEVENT
UID:69ea2d6117d1b
DTSTAMP:20260423T143201Z
DTSTART:20210521T010000Z
DTEND:20210705T050000Z
LOCATION:CRI des Lumières Place de la deuxième division de cavalerie 54302 Luneville
SUMMARY:Avant la nuit
DESCRIPTION:Les photographies de Christophe Bourguedieu retranscrivent les 
 climats mélancoliques de ses longs séjours en Finlande\,  en Australie ou
  dans la province française. Attentives aux lumières\,  aux visages\,  el
 les s’attardent sur des sensations tout en suggérant imperceptiblement u
 n effondrement. L’idée d’un drame n’est jamais loin dans ces cliché
 s qui rendent visibles[..]\nhttps://www.9lives-magazine.com/events/avant-la
 -nuit-christophe-bourguedieu/
URL:https://www.9lives-magazine.com/events/avant-la-nuit-christophe-bourguedieu/
END:VEVENT
END:VCALENDAR