BEGIN:VCALENDAR
VERSION:2.0
PRODID:-//eventon.com NONSGML v1.0//EN
CALSCALE:GREGORIAN
METHOD:PUBLISH
BEGIN:VEVENT
UID:69eb416fe0077
DTSTAMP:20260424T100951Z
DTSTART:20211215T000000Z
DTEND:20220124T060000Z
LOCATION:Le Château d’Eau - Pôle photographique de Toulouse 1\,  place Laganne 31300 Toulouse
SUMMARY:Prix Caritas Photo Sociale 2021
DESCRIPTION:e Château d’Eau accueille à partir de mi-décembre les Laur
 éats 2021 du Prix Caritas Photo Sociale\,  Victorine Alisse et JS Saia co-
 auteurs de la série réalisée à quatre mains « Au grand air ». Dans ce
  travail\,  ils racontent et confrontent leurs regards créant un ensemble 
 qui prend la forme[..]\nhttps://www.9lives-magazine.com/events/prix-caritas
 -photo-sociale-2021-2/
URL:https://www.9lives-magazine.com/events/prix-caritas-photo-sociale-2021-2/
END:VEVENT
END:VCALENDAR