BEGIN:VCALENDAR
VERSION:2.0
PRODID:-//eventon.com NONSGML v1.0//EN
CALSCALE:GREGORIAN
METHOD:PUBLISH
BEGIN:VEVENT
UID:69e94253dbcb7
DTSTAMP:20260422T214907Z
DTSTART:20220113T210000Z
DTEND:20220304T060000Z
LOCATION:Centre photographique documentaire - ImageSinguliÃ¨res 17 rue Lacan 34200 SÃ¨te
SUMMARY:Bastard Countryside
DESCRIPTION:Â« Bastard Countryside Â» explore le paysage britannique comme 
 une sÃ©rie de mÃ©taphores. Chaque photographie est une reprÃ©sentation de l
 a faÃ§on dont notre mode de vie moderne dÃ©truit la planÃ¨te. La sÃ©rie a Ã
 ©tÃ© rÃ©alisÃ©e au Royaume-Uni\,  mais les sujets et thÃ¨mes sont globaux e
 t nous invitent tous en tant[..]\nhttps://www.9lives-magazine.com/events/ba
 stard-countryside-robin-friend/
URL:https://www.9lives-magazine.com/events/bastard-countryside-robin-friend/
END:VEVENT
END:VCALENDAR