BEGIN:VCALENDAR
VERSION:2.0
PRODID:-//eventon.com NONSGML v1.0//EN
CALSCALE:GREGORIAN
METHOD:PUBLISH
BEGIN:VEVENT
UID:69e7b7464858d
DTSTAMP:20260421T174334Z
DTSTART:20211008T010000Z
DTEND:20220109T060000Z
LOCATION:Galerie Roger-Viollet 6 rue de Seine 75006 Paris
SUMMARY:L'Orient en Grand
DESCRIPTION:La Galerie Roger-Viollet présente 50 photos panoramiques des s
 tudios Léon et Lévy\,  à découvrir à partir du 7 octobre 2021. Maroc\,
   Tunisie\,  Algérie\,  Egypte\,  autour des années 1900\,  les studios L
 éon &#038; Lévy envoient leurs opérateurs photographes parcourir le mond
 e et en particulier à destination de l’Orient méditerranéen. Ils se[..
 ]\nhttps://www.9lives-magazine.com/events/lorient-en-grand/
URL:https://www.9lives-magazine.com/events/lorient-en-grand/
END:VEVENT
END:VCALENDAR