BEGIN:VCALENDAR
VERSION:2.0
PRODID:-//eventon.com NONSGML v1.0//EN
CALSCALE:GREGORIAN
METHOD:PUBLISH
BEGIN:VEVENT
UID:69e52fde0eb06
DTSTAMP:20260419T194118Z
DTSTART:20211008T010000Z
DTEND:20211205T060000Z
LOCATION:La Galerie Rouge 3 Rue Du Pont Louis-Philippe 75004 Paris
SUMMARY:Le Réel Merveilleux
DESCRIPTION:Octavio Paz : « Montrer l’autre côté de ce côté » La Ga
 lerie Rouge met à l’honneur trois artistes d’Amérique Latine\,  Manue
 l ÁlvarezBravo et Colette Urbajtel\,  figures de la scène photographique 
 mexicaine\,  et Sandra Eleta\,  grande photographe panaméenne. L’exposit
 ion\,  en référence au genre littéraire du réalisme magique ou « real[
 ..]\nhttps://www.9lives-magazine.com/events/le-reel-merveilleux-manuel-alva
 rez-bravo-sandra-eleta-colette-urbajtel/
URL:https://www.9lives-magazine.com/events/le-reel-merveilleux-manuel-alvarez-bravo-sandra-eleta-colette-urbajtel/
END:VEVENT
END:VCALENDAR