BEGIN:VCALENDAR
VERSION:2.0
PRODID:-//eventon.com NONSGML v1.0//EN
CALSCALE:GREGORIAN
METHOD:PUBLISH
BEGIN:VEVENT
UID:69e6f76704eb3
DTSTAMP:20260421T040455Z
DTSTART:20220122T010000Z
DTEND:20220425T053000Z
LOCATION:STIMULTANIA PÃ´le de photographie 33 rue Kageneck\,  67000 Strasbourg
SUMMARY:Le Fleuve et son Ã®lÃ©
DESCRIPTION:Je viens du continent. Jâ€™ai traversÃ© le fleuve\,  plusieurs 
 fois\,  accompli le voyage initiatique. Traverser le RhÃ´ne Ã  Givors\,  câ
 €™est traverser un ocÃ©an et entrer en terre nouvelle. Depuis le large elle
  demeure impassible Ã  lâ€™horizon\,  frangÃ©e de rives sauvages et mystÃ©r
 ieuses oÃ¹ venir Ã©chouer son navire ; les lÃ©gendes[..]\nhttps://www.9live
 s-magazine.com/events/le-fleuve-et-son-ile-leonie-pondevie/
URL:https://www.9lives-magazine.com/events/le-fleuve-et-son-ile-leonie-pondevie/
END:VEVENT
END:VCALENDAR