BEGIN:VCALENDAR
VERSION:2.0
PRODID:-//eventon.com NONSGML v1.0//EN
CALSCALE:GREGORIAN
METHOD:PUBLISH
BEGIN:VEVENT
UID:69e5b09924592
DTSTAMP:20260420T045033Z
DTSTART:20220111T180000Z
DTEND:20220508T105900Z
LOCATION:
SUMMARY:Prix Virginia 2022
DESCRIPTION:Prix international décerné à une femme photographe\,  le Pri
 x Virginia est remis tous les deux ans depuis 2012 à une photographe profe
 ssionnelle\,  de toute nationalité\,  sans limite d&rsquo;âge pour un tra
 vail photographique\,  hors commande presse et publicitaire\,  inédit en F
 rance. Un Prix pour les femmes photographes Issue d&rsquo;une famille de[..
 ]\nhttps://www.9lives-magazine.com/events/prix-virginia-2022/
URL:https://www.9lives-magazine.com/events/prix-virginia-2022/
END:VEVENT
END:VCALENDAR