BEGIN:VCALENDAR
VERSION:2.0
PRODID:-//eventon.com NONSGML v1.0//EN
CALSCALE:GREGORIAN
METHOD:PUBLISH
BEGIN:VEVENT
UID:69eb273021ee8
DTSTAMP:20260424T081752Z
DTSTART:20220408T230000Z
DTEND:20220829T050000Z
LOCATION:Les Abattoirs - Musée FRAC Occitanie Toulouse 76 allées Charles-de-Fitte 31300 Toulouse
SUMMARY:Manifeste ORLAN. Corps et sculptures
DESCRIPTION:Les Abattoirs\,  Musée – Frac Occitanie Toulouse sont heureu
 x de présenter une importante exposition de l&rsquo;artiste ORLAN du 8 avr
 il au 28 août 2022. Son œuvre\,  des années 1960 à nos jours\,  sera en
 visagé d’une manière inédite. Pour la première fois\,  l a sculpture 
 en sera le fil rouge :[..]\nhttps://www.9lives-magazine.com/events/manifest
 e-orlan-corps-et-sculptures/
URL:https://www.9lives-magazine.com/events/manifeste-orlan-corps-et-sculptures/
END:VEVENT
END:VCALENDAR