BEGIN:VCALENDAR
VERSION:2.0
PRODID:-//eventon.com NONSGML v1.0//EN
CALSCALE:GREGORIAN
METHOD:PUBLISH
BEGIN:VEVENT
UID:69e84d76a15de
DTSTAMP:20260422T042422Z
DTSTART:20220517T013000Z
DTEND:20220530T063000Z
LOCATION:Little Big Galerie 45 rue Lepic 75018 Paris
SUMMARY:Hélène
DESCRIPTION:«Nous nous sommes rencontrées en 2004\,  dans le métro. Je t
 ’ai abordée avec l’envie de te photographier. Au départ tu étais mon
  modèle\,  au fil du temps nous sommes devenues amies. La photographie a c
 e magnifique pouvoir de fixer le temps\,  l’espace\,  les personnes. Mais
  les livres davantage encore. Parce[..]\nhttps://www.9lives-magazine.com/ev
 ents/helene-estelle-lagarde/
URL:https://www.9lives-magazine.com/events/helene-estelle-lagarde/
END:VEVENT
END:VCALENDAR