BEGIN:VCALENDAR
VERSION:2.0
PRODID:-//eventon.com NONSGML v1.0//EN
CALSCALE:GREGORIAN
METHOD:PUBLISH
BEGIN:VEVENT
UID:69e8dc9de2237
DTSTAMP:20260422T143509Z
DTSTART:20220331T220000Z
DTEND:20220515T060000Z
LOCATION:Bigaignon 18 rue Bourg-Tibourg 75004 Paris
SUMMARY:Perspectives Radicales
DESCRIPTION:Qu’est-ce que la photographie ? C’est de cette question\,  
 simple de prime abord et à laquelle tout un chacun semble avoir une répon
 se toute trouvée\,  qu’est parti Thierry Bigaignon pour construire cette
  exposition collective d’envergure. Une exposition qui réunit pas moins 
 de dix artistes\,  hommes et femmes de tous horizons\, [..]\nhttps://www.9l
 ives-magazine.com/events/perspectives-radicales-exposition-collective/
URL:https://www.9lives-magazine.com/events/perspectives-radicales-exposition-collective/
END:VEVENT
END:VCALENDAR