BEGIN:VCALENDAR
VERSION:2.0
PRODID:-//eventon.com NONSGML v1.0//EN
CALSCALE:GREGORIAN
METHOD:PUBLISH
BEGIN:VEVENT
UID:69ec0ddedb768
DTSTAMP:20260425T004206Z
DTSTART:20220414T180000Z
DTEND:20220616T105900Z
LOCATION:
SUMMARY:2ème édition de Mentorat Les Filles de la Photo
DESCRIPTION:L&rsquo;accélérateur de carrière des femmes photographes. Le
 s Filles de la Photo sont heureuses de lancer la 2ème édition du program
 me de Mentorat dédié aux femmes photographes. Les Filles de la Photo ont
  créé l’Observatoire de la Mixité Femme-Homme dans la Photographie\, 
  dont les deux éditions en 2019 et 2021 ont mis en exergue[..]\nhttps://ww
 w.9lives-magazine.com/events/2eme-edition-de-mentorat-les-filles-de-la-phot
 o/
URL:https://www.9lives-magazine.com/events/2eme-edition-de-mentorat-les-filles-de-la-photo/
END:VEVENT
END:VCALENDAR