BEGIN:VCALENDAR
VERSION:2.0
PRODID:-//eventon.com NONSGML v1.0//EN
CALSCALE:GREGORIAN
METHOD:PUBLISH
BEGIN:VEVENT
UID:69e80da4a0a2e
DTSTAMP:20260421T235204Z
DTSTART:20220519T220000Z
DTEND:20220714T060000Z
LOCATION:Bigaignon 18 rue Bourg-Tibourg 75004 Paris
SUMMARY:Endless
DESCRIPTION:L’exposition Enless présentera chez Bigaignon\,  du 19 mai a
 u 9 juillet 2022\,  une nouvelle série d’œuvres de très grands formats
  de l’artiste Catherine Balet sur le thème des jardins\,  de la nature e
 t des quatre saisons. Bigaignon présentera du 19 mai au 9 juillet 2022 l&r
 squo;exposition Endless de Catherine Balet.[..]\nhttps://www.9lives-magazin
 e.com/events/endless-catherine-balet/
URL:https://www.9lives-magazine.com/events/endless-catherine-balet/
END:VEVENT
END:VCALENDAR