BEGIN:VCALENDAR
VERSION:2.0
PRODID:-//eventon.com NONSGML v1.0//EN
CALSCALE:GREGORIAN
METHOD:PUBLISH
BEGIN:VEVENT
UID:69e5d6602bccd
DTSTAMP:20260420T073144Z
DTSTART:20221022T223000Z
DTEND:20230116T044500Z
LOCATION:Musée Nicéphore Niépce 28 quai des messageries 71100 Chalon-sur-Saône
SUMMARY:Penser / Classer : 50 ans du musée (volet 2)
DESCRIPTION:À l’occasion de ses cinquante ans\,  le musée Nicéphore Ni
 épce [1972] propose de lever le voile sur une dimension soustraite au rega
 rd du public : dans les réserves\,  la richesse de ses collections. Tout m
 ontrer est impossible\,  une sélection représentative ne l’est pas dava
 ntage. Un prochain catalogue en retracera l’histoire[..]\nhttps://www.9li
 ves-magazine.com/events/penser-classer-50-ans-du-musee-volet-2/
URL:https://www.9lives-magazine.com/events/penser-classer-50-ans-du-musee-volet-2/
END:VEVENT
END:VCALENDAR