BEGIN:VCALENDAR
VERSION:2.0
PRODID:-//eventon.com NONSGML v1.0//EN
CALSCALE:GREGORIAN
METHOD:PUBLISH
BEGIN:VEVENT
UID:69e5a46f7877f
DTSTAMP:20260420T035839Z
DTSTART:20220515T210000Z
DTEND:20220619T050000Z
LOCATION:Médiathèque Rémy Peyranne Parvis des Citoyens 31620 Castelnau d’Estrétefonds
SUMMARY:Bordures
DESCRIPTION:UN PROJET « HORS LES MURS » #6 DE LA RÉSIDENCE 1+2 Dans le c
 adre de la Résidence 1+2 Hors les murs #6 réalisée avec le soutien de la
  Mairie d’Estrétefonds et en partenariat avec l’association Le Capech 
 à la Cote\,  la photographe Pauline Thollet a développé un projet photog
 raphique[..]\nhttps://www.9lives-magazine.com/events/bordures-pauline-tholl
 et/
URL:https://www.9lives-magazine.com/events/bordures-pauline-thollet/
END:VEVENT
END:VCALENDAR