BEGIN:VCALENDAR
VERSION:2.0
PRODID:-//eventon.com NONSGML v1.0//EN
CALSCALE:GREGORIAN
METHOD:PUBLISH
BEGIN:VEVENT
UID:69e869c85c21e
DTSTAMP:20260422T062512Z
DTSTART:20221110T210000Z
DTEND:20221114T060000Z
LOCATION:Grand Palais Ephémère Champs de Mars - 75008 Paris
SUMMARY:Paris Photo 2022
DESCRIPTION:Paris Photo\,  première foire internationale dédiée au médi
 um photographique\,  se tient chaque année au coeur de Paris. Depuis 1997\
 ,  la foire œuvre au développement et au soutien de la création photogra
 phique en promouvant le travail des galeristes\,  des éditeurs et des arti
 stes. Paris Photo rassemble près de 200 exposants venus[..]\nhttps://www.9
 lives-magazine.com/events/paris-photo-2022/
URL:https://www.9lives-magazine.com/events/paris-photo-2022/
END:VEVENT
END:VCALENDAR