BEGIN:VCALENDAR
VERSION:2.0
PRODID:-//eventon.com NONSGML v1.0//EN
CALSCALE:GREGORIAN
METHOD:PUBLISH
BEGIN:VEVENT
UID:69e58ed5b7f69
DTSTAMP:20260420T022629Z
DTSTART:20221110T210000Z
DTEND:20221114T060000Z
LOCATION:Le Molière 14\,  rue de Richelieu 75001 Paris
SUMMARY:6ème édition a ppr oc he
DESCRIPTION:La sixième édition du salon a ppr oc he repousse les fronti
 ères et s’internationalise. Le salon accueillera quatorze solo shows et
  un duo. Neuf artistes venant du Mexique\,  d’Espagne\,  d’Amérique\,
   du Brésil\,  de la Belgique\,  d’Allemagne et du Japon et sept galeri
 es étrangères en provenance des Etats-Unis\,  du Royaume-Uni\,  de[..]\
 nhttps://www.9lives-magazine.com/events/6eme-edition-a-ppr-oc-he/
URL:https://www.9lives-magazine.com/events/6eme-edition-a-ppr-oc-he/
END:VEVENT
END:VCALENDAR