BEGIN:VCALENDAR
VERSION:2.0
PRODID:-//eventon.com NONSGML v1.0//EN
CALSCALE:GREGORIAN
METHOD:PUBLISH
BEGIN:VEVENT
UID:69e84ed67d0a1
DTSTAMP:20260422T043014Z
DTSTART:20221105T230000Z
DTEND:20221225T060000Z
LOCATION:Galerie Camera Obscura 268 Boulevard Raspail 75014 Paris
SUMMARY:Patrick Taberna
DESCRIPTION:Voilà un quart de siècle que Patrick Taberna tient une sorte 
 de carnet photographique intime. Sa compagne Sylvie et lui-même ont d’ab
 ord été les protagonistes de ces séries d’images rapportées de voyage
 s en mer du Nord\,  Italie\,  Grèce… Voyages guidés par des amours litt
 éraires et photographiques (Nicolas Bouvier\,  Bernard Plossu\, [..]\nhttp
 s://www.9lives-magazine.com/events/patrick-taberna-nos-vies-partagees/
URL:https://www.9lives-magazine.com/events/patrick-taberna-nos-vies-partagees/
END:VEVENT
END:VCALENDAR