BEGIN:VCALENDAR
VERSION:2.0
PRODID:-//eventon.com NONSGML v1.0//EN
CALSCALE:GREGORIAN
METHOD:PUBLISH
BEGIN:VEVENT
UID:69e8f88d01917
DTSTAMP:20260422T163421Z
DTSTART:20230120T210000Z
DTEND:20230410T060000Z
LOCATION:Centre photographique documentaire - ImageSinguliÃ¨res 17 rue Lacan 34200 SÃ¨te
SUMMARY:Claudine Doury
DESCRIPTION:Claudine est devenue photographe en empruntant les chemins de t
 raverse. Nous nous sommes rencontrÃ©s dans une petite agence photo puis au 
 journal LibÃ©ration oÃ¹ elle officiait comme iconographe\,  Ã  lâ€™orÃ©e de
 s annÃ©es 80. Câ€™est donc par ce biais dÃ©tournÃ© quâ€™elle est arrivÃ©e Ã
   ses fins\,  en sâ€™enrichissant tout dâ€™abord du[..]\nhttps://www.9lives
 -magazine.com/events/claudine-doury-amour-une-odyssee-siberienne/
URL:https://www.9lives-magazine.com/events/claudine-doury-amour-une-odyssee-siberienne/
END:VEVENT
END:VCALENDAR