BEGIN:VCALENDAR
VERSION:2.0
PRODID:-//eventon.com NONSGML v1.0//EN
CALSCALE:GREGORIAN
METHOD:PUBLISH
BEGIN:VEVENT
UID:69e65b1ec1407
DTSTAMP:20260420T165806Z
DTSTART:20221213T200000Z
DTEND:20230313T070000Z
LOCATION:BnF - Bibliothèque nationale de France Quai François Mauriac 75013 Paris
SUMMARY:La photographie à tout prix 2022
DESCRIPTION:À travers son soutien aux grands prix photographiques qui stru
 cturent par leur action une part importante de la création dans ce champ a
 rtistique\,  &#8211; le Prix Niépce et le Prix Nadar initiés par l’asso
 ciation Gens d’images en 1955\,  la Bourse du Talent et enfn\,  depuis 20
 20\,  le nouveau Prix du[..]\nhttps://www.9lives-magazine.com/events/la-pho
 tographie-a-tout-prix-2022/
URL:https://www.9lives-magazine.com/events/la-photographie-a-tout-prix-2022/
END:VEVENT
END:VCALENDAR