BEGIN:VCALENDAR
VERSION:2.0
PRODID:-//eventon.com NONSGML v1.0//EN
CALSCALE:GREGORIAN
METHOD:PUBLISH
BEGIN:VEVENT
UID:69eb891c15bb6
DTSTAMP:20260424T151540Z
DTSTART:20230127T013000Z
DTEND:20230403T060000Z
LOCATION:Galerie Françoise Besson 10 rue de Crimée 69001 Lyon
SUMMARY:Stéphane Charpentier
DESCRIPTION:La galerie Françoise Besson est très heureuse d’accueillir 
 enfin dans ses murs le travail photographique de Stéphane Charpentier déj
 à entrevu en 2015 lors de l’exposition Éclairages à l’étage de la g
 alerie. Parallèlement à son travail photographique auquel il se dédie pl
 einement depuis 2003\,  Stéphane Charpentier réalise des vidéos et des[.
 .]\nhttps://www.9lives-magazine.com/events/stephane-charpentier-leclipse/
URL:https://www.9lives-magazine.com/events/stephane-charpentier-leclipse/
END:VEVENT
END:VCALENDAR