BEGIN:VCALENDAR
VERSION:2.0
PRODID:-//eventon.com NONSGML v1.0//EN
CALSCALE:GREGORIAN
METHOD:PUBLISH
BEGIN:VEVENT
UID:69eb0ab4c788a
DTSTAMP:20260424T061620Z
DTSTART:20230408T213000Z
DTEND:20230521T060000Z
LOCATION:Galerie - La chambre claire 3\,  rue Voltaire 29100 Douarnenez
SUMMARY:Dana Cojbuc
DESCRIPTION:À l’occasion d’une résidence sur l’île de Halsnoy en N
 orvège\,  Dana Cojbuc réalise la série photographique Yggdrasil\,  du no
 m de l’arbre-monde de la mythologie norvégienne. À travers ses photogra
 phies où le crayon prolonge parfois son regard\,  où elle peut aussi intr
 oduire des éléments qu’elle aura grappillés dans cette nature qu’ell
 e[..]\nhttps://www.9lives-magazine.com/events/dana-cojbuc/
URL:https://www.9lives-magazine.com/events/dana-cojbuc/
END:VEVENT
END:VCALENDAR