BEGIN:VCALENDAR
VERSION:2.0
PRODID:-//eventon.com NONSGML v1.0//EN
CALSCALE:GREGORIAN
METHOD:PUBLISH
BEGIN:VEVENT
UID:69eb1efc75da0
DTSTAMP:20260424T074252Z
DTSTART:20230610T213000Z
DTEND:20230716T060000Z
LOCATION:Galerie - La chambre claire 3\,  rue Voltaire 29100 Douarnenez
SUMMARY:Colette Pourroy
DESCRIPTION:Colette Pourroy vit et travaille Ã  Paris et en Provence. FormÃ
 ©e Ã  l&rsquo;ENSAD de la villa Arson Ã  Nice\,  elle choisit le mÃ©dium ph
 otographique pour exprimer sa crÃ©ation artistique. Ses photos sont rÃ©alis
 Ã©es en argentique\,  sans retouche\,  et ses tirages sur papier barytÃ© ma
 t Ã  lâ€™agrandisseur. Elle y explore les[..]\nhttps://www.9lives-magazine.
 com/events/colette-pourroy-2/
URL:https://www.9lives-magazine.com/events/colette-pourroy-2/
END:VEVENT
END:VCALENDAR