BEGIN:VCALENDAR
VERSION:2.0
PRODID:-//eventon.com NONSGML v1.0//EN
CALSCALE:GREGORIAN
METHOD:PUBLISH
BEGIN:VEVENT
UID:69eb0abe78c6b
DTSTAMP:20260424T061630Z
DTSTART:20230729T213000Z
DTEND:20230910T060000Z
LOCATION:Galerie - La chambre claire 3\,  rue Voltaire 29100 Douarnenez
SUMMARY:Corinne Mercadier
DESCRIPTION:Corinne Mercadier vit entre Paris et Bages dans le Languedoc. E
 lle est représentée par la Galerie Binome. Elle est lauréate du Prix de 
 photographie de la Fondation des Treilles 2019. Elle a travaillé au Leica 
 argentique et au Polaroid SX70 jusqu’en 2008\,  puis s’est tournée ver
 s le numérique. L’univers à[..]\nhttps://www.9lives-magazine.com/events
 /corinne-mercadier-etoile-du-soir/
URL:https://www.9lives-magazine.com/events/corinne-mercadier-etoile-du-soir/
END:VEVENT
END:VCALENDAR