BEGIN:VCALENDAR
VERSION:2.0
PRODID:-//eventon.com NONSGML v1.0//EN
CALSCALE:GREGORIAN
METHOD:PUBLISH
BEGIN:VEVENT
UID:69eb1fcee79df
DTSTAMP:20260424T074622Z
DTSTART:20231125T213000Z
DTEND:20240107T060000Z
LOCATION:Galerie - La chambre claire 3\,  rue Voltaire 29100 Douarnenez
SUMMARY:Christian Poncet
DESCRIPTION:En 2021\,  la Chambre claire Galerie présentait l’exposition
  « Le songe des rives » de Christian Poncet. Christian Poncet revient cet
 te fin d’année 2023\,  pour notre plus grand plaisir\,  du 25 novembre 2
 023 au 6 janvier 2024\,  avec sa série « Main Street » qui présente un 
 pan de son[..]\nhttps://www.9lives-magazine.com/events/christian-poncet-2/
URL:https://www.9lives-magazine.com/events/christian-poncet-2/
END:VEVENT
END:VCALENDAR