BEGIN:VCALENDAR
VERSION:2.0
PRODID:-//eventon.com NONSGML v1.0//EN
CALSCALE:GREGORIAN
METHOD:PUBLISH
BEGIN:VEVENT
UID:69e6a58428cd2
DTSTAMP:20260420T221532Z
DTSTART:20230404T210000Z
DTEND:20230428T050000Z
LOCATION:La Maison des Photographes - UPP 11\,  rue de Belzunce 75010 Paris
SUMMARY:Marjolijn de Groot x Marjorie Gosset
DESCRIPTION:Dans une volonté de représenter au mieux la diversité des re
 gards\,  nous sommes ravis de vous présenter à nouveau un format d&rsquo;
 expositions autour du travail de deux photographes : « Inô  » de Marjo
 rie Gosset et « Sororie » de Marjolijn de Groot Exposition « INÔ »
  Marjorie Gosset Inô est né d’un attrait pour[..]\nhttps://www.9lives-m
 agazine.com/events/marjolijn-de-groot-x-marjorie-gosset-sororie-x-ino/
URL:https://www.9lives-magazine.com/events/marjolijn-de-groot-x-marjorie-gosset-sororie-x-ino/
END:VEVENT
END:VCALENDAR