BEGIN:VCALENDAR
VERSION:2.0
PRODID:-//eventon.com NONSGML v1.0//EN
CALSCALE:GREGORIAN
METHOD:PUBLISH
BEGIN:VEVENT
UID:69e5ce9c9c377
DTSTAMP:20260420T065836Z
DTSTART:20230716T045000Z
DTEND:20231106T045000Z
LOCATION:ZONE I Moulin de la Fontaine\,  41100 Thoré-la-Rochette
SUMMARY:La perspective du Castor
DESCRIPTION:La rencontre et la confrontation des écritures photographiques
  au sein du collectif permettent d’ouvrir le chemin des questionnements\,
   susceptibles d’enrichir le regard et la sensibilité particulière de c
 hacun. Susciter la réflexion plutôt qu’imposer une réponse. S’inscri
 vant dans le présent\,  ils privilégient l’émotion sur le factuel et l
 e spectaculaire. Ils sont[..]\nhttps://www.9lives-magazine.com/events/la-pe
 rspective-du-castor-tendance-floue/
URL:https://www.9lives-magazine.com/events/la-perspective-du-castor-tendance-floue/
END:VEVENT
END:VCALENDAR