BEGIN:VCALENDAR
VERSION:2.0
PRODID:-//eventon.com NONSGML v1.0//EN
CALSCALE:GREGORIAN
METHOD:PUBLISH
BEGIN:VEVENT
UID:69ecaeab63e79
DTSTAMP:20260425T120811Z
DTSTART:20230906T220000Z
DTEND:20240326T070000Z
LOCATION:Centre Pompidou Place Georges-Pompidou 75004 Paris
SUMMARY:Corps à corps
DESCRIPTION:Avec la rencontre de deux collections photographiques exception
 nelles – celle\,  publique\,  Musée national d&rsquo;art moderne\,  Cent
 re Pompidou\,  et celle\,  privée\,  du collectionneur français Marin Kar
 mitz – l’exposition « Corps à corps » offre un regard inédit sur le
 s représentations photographiques du genre humain\,  aux 20e et 21e siècl
 es. Rassemblant plus[..]\nhttps://www.9lives-magazine.com/events/corps-a-co
 rps-collections-de-photographies-du-centre-pompidou-et-de-marin-karmitz/
URL:https://www.9lives-magazine.com/events/corps-a-corps-collections-de-photographies-du-centre-pompidou-et-de-marin-karmitz/
END:VEVENT
END:VCALENDAR