BEGIN:VCALENDAR
VERSION:2.0
PRODID:-//eventon.com NONSGML v1.0//EN
CALSCALE:GREGORIAN
METHOD:PUBLISH
BEGIN:VEVENT
UID:69ed69ff5d102
DTSTAMP:20260426T012727Z
DTSTART:20230608T200000Z
DTEND:20240602T044500Z
LOCATION:Musée Muséum départemental 6 avenue Maréchal Foch 05000 Gap
SUMMARY:Michel Eisenlohr
DESCRIPTION:Les Alpes méridionales offrent une richesse peu comparable en 
 ouvrages fortifiés de par l’histoire\,  la géographie et les déplaceme
 nts des frontières récurrents. L’auteur-photographe Michel Eisenlohr a 
 réalisé des photographies de ces forts alpins présents en Ubaye\,  dans 
 le briançonnais et dans les vallées de la Roya et de la Bévéra[..]\nhtt
 ps://www.9lives-magazine.com/events/michel-eisenlohr-forts-des-confins/
URL:https://www.9lives-magazine.com/events/michel-eisenlohr-forts-des-confins/
END:VEVENT
END:VCALENDAR