BEGIN:VCALENDAR
VERSION:2.0
PRODID:-//eventon.com NONSGML v1.0//EN
CALSCALE:GREGORIAN
METHOD:PUBLISH
BEGIN:VEVENT
UID:69ed3681c2f09
DTSTAMP:20260425T214745Z
DTSTART:20230621T220000Z
DTEND:20230909T060000Z
LOCATION:Hôtel Lutetia 45 Boulevard Raspail 75006 Paris
SUMMARY:Catherine Deneuve
DESCRIPTION:Comme souvent avec les expositions qui me tiennent le plus à c
 oeur\,  tout commence par un souvenir d’enfance fort… Avec Catherine De
 neuve cela fut d’abord sa voix…une voix unique\,  rassurante\,  claire 
 et douce\,  qui me racontait les histoires des dessins animés Disney sur 3
 3 tours. Sa séduction et son jeu\, [..]\nhttps://www.9lives-magazine.com/e
 vents/catherine-deneuve-2/
URL:https://www.9lives-magazine.com/events/catherine-deneuve-2/
END:VEVENT
END:VCALENDAR