BEGIN:VCALENDAR
VERSION:2.0
PRODID:-//eventon.com NONSGML v1.0//EN
CALSCALE:GREGORIAN
METHOD:PUBLISH
BEGIN:VEVENT
UID:69e6263c982ac
DTSTAMP:20260420T131228Z
DTSTART:20230624T210000Z
DTEND:20230918T050000Z
LOCATION:Moulin Blanchard 11 Rue de Courboyer 61340 Perche-en-NocÃ©
SUMMARY:Cycle en hommage Ã  Carole BellaÃ¯che
DESCRIPTION:NÃ©e Ã  Paris en 1964\,  câ€™est Ã  lâ€™Ã¢ge de 13 ans que Caro
 le BellaÃ¯che commence Ã  photographier\,  et trÃ¨s vite\,  ce sont des por
 traits de jeunes filles de son Ã¢ge qui lâ€™entourent. Elle les exposera Ã 
  Aubenas en 1980. Montrant sa sÃ©rie de photos Ã  Dominique Issermann Ã  lâ
 €™Ã¢ge de[..]\nhttps://www.9lives-magazine.com/events/cycle-en-hommage-a-ca
 role-bellaiche/
URL:https://www.9lives-magazine.com/events/cycle-en-hommage-a-carole-bellaiche/
END:VEVENT
END:VCALENDAR