BEGIN:VCALENDAR
VERSION:2.0
PRODID:-//eventon.com NONSGML v1.0//EN
CALSCALE:GREGORIAN
METHOD:PUBLISH
BEGIN:VEVENT
UID:69e633fb81862
DTSTAMP:20260420T141107Z
DTSTART:20230624T210000Z
DTEND:20230918T050000Z
LOCATION:Moulin Blanchard 11 Rue de Courboyer 61340 Perche-en-Nocé
SUMMARY:Elsa & Johanna
DESCRIPTION:Elsa Parra (née en 1990) et Johanna Benaïnous (née en 1991) 
 collaborent depuis 2014 sous le nom de duo Elsa &#038; Johanna. Lauréates 
 de la Résidence Capsule 2023 pour la création photographique soutenue par
  la Drac Normandie\,  dans le cadre d’un programme national du Ministère
  de la Culture qui a[..]\nhttps://www.9lives-magazine.com/events/elsa-johan
 na-echantillons-samples/
URL:https://www.9lives-magazine.com/events/elsa-johanna-echantillons-samples/
END:VEVENT
END:VCALENDAR