BEGIN:VCALENDAR
VERSION:2.0
PRODID:-//eventon.com NONSGML v1.0//EN
CALSCALE:GREGORIAN
METHOD:PUBLISH
BEGIN:VEVENT
UID:69e611b845780
DTSTAMP:20260420T114456Z
DTSTART:20230624T210000Z
DTEND:20230918T050000Z
LOCATION:Moulin Blanchard 11 Rue de Courboyer 61340 Perche-en-Nocé
SUMMARY:L’Artothèque du Champ des Impossibles
DESCRIPTION:Ouvert à l’automne 2021\,  ce fonds contemporain à la dispo
 nibilité des habitants est riche de la collection de Christine Ollier\,  d
 u fonds de la photographe Catherine Poncin et des dons et dépôts de nombr
 eux artistes\,  la plupart en remerciements de leur séjour en résidence o
 u de leur participation au parcours.[..]\nhttps://www.9lives-magazine.com/e
 vents/lartotheque-du-champ-des-impossibles/
URL:https://www.9lives-magazine.com/events/lartotheque-du-champ-des-impossibles/
END:VEVENT
END:VCALENDAR