BEGIN:VCALENDAR
VERSION:2.0
PRODID:-//eventon.com NONSGML v1.0//EN
CALSCALE:GREGORIAN
METHOD:PUBLISH
BEGIN:VEVENT
UID:69e8db843132c
DTSTAMP:20260422T143028Z
DTSTART:20240615T010000Z
DTEND:20241011T050000Z
LOCATION:Jeu de Paume - Château de Tours 25\,  avenue André Malraux 37000 Tours
SUMMARY:Juliette Agnel - Prix Niépce 2023
DESCRIPTION:Le Jeu de Paume consacre une exposition à Juliette Agnel\,  la
 uréate du Prix Niépce – Gens d’Images 2023 au Château de Tours\,  du
  14 juin au 10 novembre 2024. Du ciel au cosmos en passant par la terre\,  
 les grottes et les icebergs\,  Juliette Agnel s’intéresse aux paysages d
 e nature[..]\nhttps://www.9lives-magazine.com/events/juliette-agnel-prix-ni
 epce-2023/
URL:https://www.9lives-magazine.com/events/juliette-agnel-prix-niepce-2023/
END:VEVENT
END:VCALENDAR