BEGIN:VCALENDAR
VERSION:2.0
PRODID:-//eventon.com NONSGML v1.0//EN
CALSCALE:GREGORIAN
METHOD:PUBLISH
BEGIN:VEVENT
UID:69e5df636f8f3
DTSTAMP:20260420T081011Z
DTSTART:20230923T003000Z
DTEND:20240219T053000Z
LOCATION:Maison de la Photographie Robert Doisneau 1\,  rue de la Division Général Leclerc 94250 Gentilly
SUMMARY:Et nos morts ?
DESCRIPTION:Pourquoi un tel projet ? L’initiative de ce projet visant à 
 montrer des photographies de corps morts puise ses origines dans le cahier 
 des charges de la Maison Doisneau consacré à la photographie dite « huma
 niste » dont le projet est de questionner l’Homme\,  son histoire modern
 e et contemporaine mais[..]\nhttps://www.9lives-magazine.com/events/et-nos-
 morts-la-photographie-post-mortem-aujourdhui-en-europe/
URL:https://www.9lives-magazine.com/events/et-nos-morts-la-photographie-post-mortem-aujourdhui-en-europe/
END:VEVENT
END:VCALENDAR