BEGIN:VCALENDAR
VERSION:2.0
PRODID:-//eventon.com NONSGML v1.0//EN
CALSCALE:GREGORIAN
METHOD:PUBLISH
BEGIN:VEVENT
UID:69ec1f8b9fde5
DTSTAMP:20260425T015731Z
DTSTART:20231013T010000Z
DTEND:20231224T060000Z
LOCATION:in camera galerie 21\,  rue Las Cases 75007 Paris
SUMMARY:15th anniversary
DESCRIPTION:La galerie in camera fête ses quinze ans\,  une exposition ric
 he de trente-deux auteurs. Trente-deux artistes. Trente-deux tirages. En 20
 08\,  lorsque nous imaginons la galerie\,  avec Hanane Hilmi\,  nous penson
 s d’abord à la photographie documentaire\,  un territoire collectif et p
 eu représenté dont je me sens proche\,  j’ai longtemps été reporter.[
 ..]\nhttps://www.9lives-magazine.com/events/15th-anniversary/
URL:https://www.9lives-magazine.com/events/15th-anniversary/
END:VEVENT
END:VCALENDAR