BEGIN:VCALENDAR
VERSION:2.0
PRODID:-//eventon.com NONSGML v1.0//EN
CALSCALE:GREGORIAN
METHOD:PUBLISH
BEGIN:VEVENT
UID:69e4cde1c9c3b
DTSTAMP:20260419T124313Z
DTSTART:20230915T233000Z
DTEND:20230930T053000Z
LOCATION:Galerie VU&#039; 60 Av. de Saxe\,  75015 Paris
SUMMARY:Exposition du Mentorat Photographique du Fonds Régnier pour la Création #03
DESCRIPTION:Pour clore la troisième édition du Mentorat Photographique du
  Fonds Régnier pour la Création avec VU’\,  la Galerie VU’ est heureu
 se de présenter au grand public et aux professionnels une exposition des t
 ravaux réalisés par les cinq photographes émergents\,  sélectionnés po
 ur leur énergie\,  leur talent et la singularité de leur[..]\nhttps://www
 .9lives-magazine.com/events/exposition-du-mentorat-photographique-du-fonds-
 regnier-pour-la-creation-02-copy/
URL:https://www.9lives-magazine.com/events/exposition-du-mentorat-photographique-du-fonds-regnier-pour-la-creation-02-copy/
END:VEVENT
END:VCALENDAR