BEGIN:VCALENDAR
VERSION:2.0
PRODID:-//eventon.com NONSGML v1.0//EN
CALSCALE:GREGORIAN
METHOD:PUBLISH
BEGIN:VEVENT
UID:69ecdd737c5ba
DTSTAMP:20260425T152747Z
DTSTART:20231103T220000Z
DTEND:20240101T060000Z
LOCATION:La Fab. Place Jean-Michel Basquiat\,  75013 Paris
SUMMARY:Dennis Morris
DESCRIPTION:Cette exposition\,  présentée à Kyotographie en avril 202
 3 avec le soutien d’agnès b.\,  s’installe dans la Galerie du Jour a
  l’occasion du mois parisien de la photographie. Celle-ci est conçue c
 omme une expérience immersive au sein de la diaspora caribéenne de l&rs
 quo;est Londonien des années 1960 et 1970. Après la[..]\nhttps://www.9l
 ives-magazine.com/events/dennis-morris-colored-black/
URL:https://www.9lives-magazine.com/events/dennis-morris-colored-black/
END:VEVENT
END:VCALENDAR